BEGIN:VCALENDAR
VERSION:2.0
PRODID:-//eventon.com NONSGML v1.0//EN
CALSCALE:GREGORIAN
METHOD:PUBLISH
BEGIN:VEVENT
UID:69e749b24ddc8
DTSTAMP:20260421T095602Z
DTSTART:20250613T115900Z
DTEND:20250613T115900Z
LOCATION:
SUMMARY:Berufsberatung Klasse 10E
DESCRIPTION:In der 1. bis 5. Stunde.\nhttps://gsg-sangerhausen.de/events/be
 rufsberatung-klasse-10e/
URL:https://gsg-sangerhausen.de/events/berufsberatung-klasse-10e/
END:VEVENT
END:VCALENDAR