BEGIN:VCALENDAR
VERSION:2.0
PRODID:-//eventon.com NONSGML v1.0//EN
CALSCALE:GREGORIAN
METHOD:PUBLISH
BEGIN:VEVENT
UID:69eb432c9eeb0
DTSTAMP:20260424T101716Z
DTSTART:20250403T154800Z
DTEND:20250403T154800Z
LOCATION:
SUMMARY:Zukunftstag
DESCRIPTION:Zukunftstag\nhttps://gsg-sangerhausen.de/events/zukunftstag-2/
URL:https://gsg-sangerhausen.de/events/zukunftstag-2/
END:VEVENT
END:VCALENDAR