BEGIN:VCALENDAR
VERSION:2.0
PRODID:-//eventon.com NONSGML v1.0//EN
CALSCALE:GREGORIAN
METHOD:PUBLISH
BEGIN:VEVENT
UID:69e9efaf5fc65
DTSTAMP:20260423T100847Z
DTSTART:20241203
DTEND:20241204
LOCATION:
SUMMARY:Weihnachtswandertag
DESCRIPTION:Weihnachtswandertag\nhttps://gsg-sangerhausen.de/events/weihnac
 htswandertag/
URL:https://gsg-sangerhausen.de/events/weihnachtswandertag/
END:VEVENT
END:VCALENDAR